BEGIN:VCALENDAR
VERSION:2.0
PRODID:-//ATPSA - ECPv6.15.20//NONSGML v1.0//EN
CALSCALE:GREGORIAN
METHOD:PUBLISH
X-WR-CALNAME:ATPSA
X-ORIGINAL-URL:https://www.atpsa.net
X-WR-CALDESC:Events for ATPSA
REFRESH-INTERVAL;VALUE=DURATION:PT1H
X-Robots-Tag:noindex
X-PUBLISHED-TTL:PT1H
BEGIN:VTIMEZONE
TZID:Africa/Johannesburg
BEGIN:STANDARD
TZOFFSETFROM:+0200
TZOFFSETTO:+0200
TZNAME:SAST
DTSTART:20240101T000000
END:STANDARD
END:VTIMEZONE
BEGIN:VEVENT
DTSTART;TZID=Africa/Johannesburg:20250417T080000
DTEND;TZID=Africa/Johannesburg:20250421T170000
DTSTAMP:20260420T023810
CREATED:20250223T090531Z
LAST-MODIFIED:20250223T091852Z
UID:2386-1744876800-1745254800@www.atpsa.net
SUMMARY:The Rand Easter Show
DESCRIPTION:Get ready for a five-day spectacle that brings together the best of South Africa’s entertainment\, shopping\, thrills\, and discovery—all in one extraordinary event!  \nThe Rand Show 2025 is set to deliver excitement like never before\, featuring unique experiences for everyone in the family.  \nFrom great performances to interactive exhibits and incredible shopping\, the 2025 show is #thebestplacetobe.
URL:https://www.atpsa.net/event/the-rand-easter-show/
ATTACH;FMTTYPE=image/jpeg:https://www.atpsa.net/wp-content/uploads/2025/02/bba56ecc-147e-c7c0-001a-07a5769a01f5.jpg
ORGANIZER;CN="The Rand Easter Show":MAILTO:info@randshow.co.za
END:VEVENT
BEGIN:VEVENT
DTSTART;TZID=Africa/Johannesburg:20250409T100000
DTEND;TZID=Africa/Johannesburg:20250411T180000
DTSTAMP:20260420T023810
CREATED:20250222T151518Z
LAST-MODIFIED:20250222T151518Z
UID:2229-1744192800-1744394400@www.atpsa.net
SUMMARY:World Trade Market - Africa
DESCRIPTION:World Travel Market Africa delivers the leading global events for the travel industry. One of six shows in the WTM portfolio\, our Africa show was launched in 2014 under the Africa Travel Week umbrella to bring the benefits and opportunities of our global industry expertise to travel professionals in this region. \nJoin over 6000 travel industry professionals as they attend Africa’s leading and only business to business (B2B) exhibition for both the inbound and outbound African travel and tourism markets. \nMirrored on WTM flagship events like WTM London and the Arabian Travel Market in Dubai\, WTM Africa delivers a proven mix of Hosted Buyers\, Buyers’ Club members\, Media representatives\, pre-schedule appointments\, networking\, evening functions and invited travel trade visitors. \nBeyond the event we continue to help professionals in the African travel industry to drive commercial success with year-round access to make connections\, industry news and developments\, trends and technologies from around the world. \nThrough our industry networks\, global reach and regional focus\, WTM Africa creates personal and business opportunities providing our customers with quality contacts\, content and communities.
URL:https://www.atpsa.net/event/world-trade-market-africa/
ATTACH;FMTTYPE=image/png:https://www.atpsa.net/wp-content/uploads/2025/02/Screenshot-2025-02-14-at-07.13.49.png
END:VEVENT
END:VCALENDAR